BEGIN:VCALENDAR
VERSION:2.0
PRODID:-//Molini Pizzuti - ECPv6.0.12//NONSGML v1.0//EN
CALSCALE:GREGORIAN
METHOD:PUBLISH
X-WR-CALNAME:Molini Pizzuti
X-ORIGINAL-URL:https://www.molinipizzuti.it/en/
X-WR-CALDESC:Events for Molini Pizzuti
REFRESH-INTERVAL;VALUE=DURATION:PT1H
X-Robots-Tag:noindex
X-PUBLISHED-TTL:PT1H
BEGIN:VTIMEZONE
TZID:Europe/Rome
BEGIN:DAYLIGHT
TZOFFSETFROM:+0100
TZOFFSETTO:+0200
TZNAME:CEST
DTSTART:20230326T010000
END:DAYLIGHT
BEGIN:STANDARD
TZOFFSETFROM:+0200
TZOFFSETTO:+0100
TZNAME:CET
DTSTART:20231029T010000
END:STANDARD
END:VTIMEZONE
BEGIN:VEVENT
DTSTART;TZID=Europe/Rome:20230612T090000
DTEND;TZID=Europe/Rome:20230616T170000
DTSTAMP:20260425T125629
CREATED:20230128T115953Z
LAST-MODIFIED:20230128T115953Z
UID:118320-1686560400-1686934800@www.molinipizzuti.it
SUMMARY:CORSO BASE PIZZA - GIUGNO 2023
DESCRIPTION:[vc_row row_height_percent=”0″ override_padding=”yes” h_padding=”2″ top_padding=”3″ bottom_padding=”3″ back_color=”color-lxmt” overlay_alpha=”50″ gutter_size=”4″ column_width_percent=”100″ shift_y=”0″ z_index=”0″ el_class=”inverted-device-order” uncode_shortcode_id=”135120″ back_color_type=”uncode-palette”][vc_column column_width_percent=”100″ position_horizontal=”left” position_vertical=”middle” gutter_size=”3″ overlay_alpha=”50″ shift_x=”0″ shift_y=”0″ shift_y_down=”0″ z_index=”0″ medium_width=”4″ mobile_width=”0″ width=”1/2″ uncode_shortcode_id=”278975″][vc_custom_heading text_font=”font-141436″ text_size=”” uncode_shortcode_id=”996132″ subheading=”Il corso base pizzaioli è un corso di avviamento professionale full-time organizzato da PIZZUTI ACADEMY con l’obiettivo di formare\, attraverso nozioni teoriche e pratiche\, aspiranti pizzaioli che si avvicinano per la prima volta al mondo dell’arte bianca. Durante i 5 giorni gli allievi\, guidati dai nostri istruttori e da docenti qualificati\, verranno introdotti al mondo della pizza attraverso la teoria sulla conoscenza delle materie prime e della loro gestione e la pratica partendo dagli impasti base fino ad arrivare alle varie tecniche di cottura. Al termine del corso gli allievi avranno delle nozioni di base che gli permetteranno un primo approccio al mondo pizza. Il corso prevede la frequenza obbligatoria e un numero limitato di partecipanti.”]Istruttore: Saverio Miranda[/vc_custom_heading][/vc_column][vc_column column_width_percent=”100″ gutter_size=”3″ overlay_alpha=”50″ shift_x=”0″ shift_y=”0″ shift_y_down=”0″ z_index=”0″ medium_width=”4″ mobile_width=”0″ width=”1/2″ el_class=”inverted-device-order”][vc_single_image media=”117900″ media_width_percent=”100″ media_ratio=”one-one” alignment=”right” uncode_shortcode_id=”149400″][/vc_column][/vc_row][vc_row row_height_percent=”50″ override_padding=”yes” h_padding=”2″ top_padding=”5″ bottom_padding=”5″ overlay_alpha=”50″ gutter_size=”3″ column_width_percent=”100″ shift_y=”0″ z_index=”0″ uncode_shortcode_id=”140717″ shape_dividers=””][vc_column column_width_use_pixel=”yes” position_vertical=”middle” align_horizontal=”align_center” gutter_size=”3″ overlay_alpha=”50″ shift_x=”0″ shift_y=”0″ shift_y_down=”0″ z_index=”0″ medium_width=”0″ mobile_width=”0″ width=”1/1″ column_width_pixel=”900″][vc_custom_heading heading_semantic=”h3″ text_font=”font-377273″ text_size=”fontsize-155944″ text_transform=”uppercase” uncode_shortcode_id=”101133″]Documenti importanti[/vc_custom_heading][vc_empty_space empty_h=”2″][vc_button button_color=”accent” outline=”yes” border_width=”0″ display=”inline” link=”url:https%3A%2F%2Fwww.molinipizzuti.it%2Fwp-content%2Fuploads%2F2023%2F03%2Fcorso-pizza.pdf” button_color_type=”uncode-palette” uncode_shortcode_id=”793765″]Scarica l’informativa[/vc_button][vc_button button_color=”accent” border_width=”0″ display=”inline” link=”url:https%3A%2F%2Fwww.molinipizzuti.it%2Fwp-content%2Fuploads%2F2023%2F03%2FBASE-PIZZA-40ore.pdf” button_color_type=”uncode-palette” uncode_shortcode_id=”206711″]Scarica il modulo da stampare[/vc_button][/vc_column][/vc_row][vc_row row_height_percent=”0″ override_padding=”yes” h_padding=”2″ top_padding=”3″ bottom_padding=”3″ overlay_alpha=”50″ equal_height=”yes” gutter_size=”4″ column_width_percent=”100″ shift_y=”0″ z_index=”0″ desktop_visibility=”yes” medium_visibility=”yes” mobile_visibility=”yes” el_class=”inverted-device-order” uncode_shortcode_id=”570693″][vc_column column_width_percent=”100″ position_horizontal=”left” gutter_size=”3″ expand_height=”yes” back_color=”color-wvjs” overlay_alpha=”50″ shift_x=”0″ shift_y=”0″ shift_y_down=”0″ z_index=”0″ medium_width=”4″ mobile_width=”0″ sticky=”yes” width=”1/2″ uncode_shortcode_id=”521906″ back_color_type=”uncode-palette”][vc_custom_heading sub_lead=”yes” subheading=”Durante i due giorni di Master class saranno largamente trattate tutte le fasi di produzione: dalla scelta delle materie prime\, alle fasi di “impastamento” ed inserimento corretto degli ingredienti\, fino alla cottura e degustazione\, con particolare attenzione alla correzione di problematiche e criticità che potrebbero essere riscontrate nella quotidiana attività di produzione. Una Master class diversa\, dove nulla verrà tralasciato\, affinché ogni corsista possa finalmente sentirsi libero di lavorare senza una gestione fissa o delle regole prestabilite.” uncode_shortcode_id=”735847″]Istruttore: Saverio Miranda[/vc_custom_heading][/vc_column][vc_column width=”1/2″][vc_custom_heading sub_lead=”yes” sub_reduced=”yes” subheading=”Il corso di 16 ore full-time è suddiviso in 1 ore di teoria e 15 ore di pratica. \nOrario: 10.00 – 18.00″ uncode_shortcode_id=”531337″ text_color_type=”uncode-palette” text_color_solid=”#ff0000″]Durata corso[/vc_custom_heading][vc_custom_heading text_size=”” sub_lead=”yes” sub_reduced=”yes” subheading=”Creazione\, gestione e mantenimento del lievito madre in tutte le sue forme:\n– libero\n– nel sacco (metodo Piemontese)\n– in acqua (metodo Milanese)\n– Licoli (lievito madre in forma liquida)” uncode_shortcode_id=”166047″ text_color_type=”uncode-palette” text_color_solid=”#ff0000″]Teoria[/vc_custom_heading][vc_custom_heading text_size=”” subheading=”Starter\, gestione e utilizzo del lievito madre\nTecnica della pirlatura\nCome glassare un grande lievitato:\nGlassa alle mandorle\nGlassa al cioccolato\nGlassa rocher\nCreme da inserimento\nTecniche di confezionamento e conservazione” uncode_shortcode_id=”138293″ text_color_type=”uncode-palette” text_color_solid=”#ff0000″]Pratica[/vc_custom_heading][vc_custom_heading text_size=”” subheading=”Al termine del corso verrà consegnato un attestato di partecipazione.” uncode_shortcode_id=”947017″]Titoli rilasciati[/vc_custom_heading][vc_custom_heading text_size=”” subheading=”La partecipazione al corso è a numero chiuso. \nPer richiedere maggiori informazioni o per effettuare la preiscrizione puoi contattarci ai seguenti contatti:” uncode_shortcode_id=”148803″ text_color_type=”uncode-palette” text_color_solid=”#ff0000″]Modalità di adesione[/vc_custom_heading][vc_icon icon=”fa fa-phone-handset” heading_semantic=”p” text_size=”” linked_title=”yes” uncode_shortcode_id=”115455″ link=”url:tel%3A%2B393892551034″ title=”3892551034″][/vc_icon][vc_icon icon=”fa fa-envelope3″ heading_semantic=”p” text_size=”” linked_title=”yes” uncode_shortcode_id=”917835″ link=”url:mailto%3Aacademy%40molinipizzuti.it” title=”academy@molinipizzuti.it”][/vc_icon][/vc_column][/vc_row][vc_row unlock_row_content=”yes” row_height_percent=”0″ override_padding=”yes” h_padding=”2″ top_padding=”3″ bottom_padding=”3″ back_color=”color-jevc” overlay_alpha=”50″ gutter_size=”4″ column_width_percent=”100″ shift_y=”0″ z_index=”0″ el_class=”inverted-device-order” uncode_shortcode_id=”888044″ back_color_type=”uncode-palette”][vc_column column_width_percent=”100″ position_horizontal=”left” position_vertical=”middle” gutter_size=”3″ style=”dark” overlay_alpha=”50″ shift_x=”0″ shift_y=”0″ shift_y_down=”0″ z_index=”0″ medium_width=”4″ mobile_width=”0″ width=”1/1″ uncode_shortcode_id=”810991″][vc_custom_heading uncode_shortcode_id=”688272″]Iscriviti adesso[/vc_custom_heading]\n\n  \n\n\n\n\n\n\n\n\n\n\n\n\n Your name *\n     \n\n Your surname *\n     \n\n\n Tax ID code\n    \n\n Profession *\n    \n\n\n Your address *\n     \n\n City *\n     \n\n\n Province *\n     \n\n Telephone *\n     \n\n\n Email *\n     \n\n T-Shirt size *\n    MLXLXXL\n\n\n\n\nI confirm that I understand that I will have to pay upon arrival\n\nI accept the terms of the privacy policy\n\nI authorize the processing of data for marketing purposes treated in the privacy policy\n\nI authorizethe publication of shots or images that portray me during the course/event\, acknowledging that these publications are merely of a promotional nature for the activities carried out by Pizzuti Academy.\n\n\nPayment must be made by bank transfer to : CREDEM SALERNO IT 98 H 03032 15200 010000001655 \nBeneficiary: Molini Pizzuti s.r.l.\n\n\n\n\n\n\n\n\n[/vc_column][/vc_row]
URL:https://www.molinipizzuti.it/en/corso/corso-base-pizza-giugno-2023/
LOCATION:PIZZUTI ACADEMY\, Via dell'industria\, Bellizzi\, (SA)\, 84092\, Italia
CATEGORIES:Corso base pizza,In evidenza,Pizza,Pizza Italia
ATTACH;FMTTYPE=image/png:https://www.molinipizzuti.it/wp-content/uploads/2023/01/BANNER-1.png
ORGANIZER;CN="Molini%20Pizzuti":MAILTO:academy@molinipizzuti.it
END:VEVENT
END:VCALENDAR